BEGIN:VCALENDAR
VERSION:2.0
PRODID:-//Nõmme Vaba Aja Keskus//Wordpress//EN
METHOD:PUBLISH
CALSCALE:GREGORIAN
BEGIN:VEVENT
TZID:Europe/Tallinn
DTSTART:20221025T180000
DTEND:20221025T200000
TRANSP:TRANSPARENT
SEQUENCE:0
UID:jgw2rn-6qcvklmbt0p8f
DTSTAMP:20220927T152257
SUMMARY:KOKKAME KOOS SÕPRADEGA
DESCRIPTION:Oleme Itaalia lainel. teeme bruschettasid valmistame gnocchisid erineval moel küpsetame Savoiardi küpsiseid ja teeme Tiramisut Juhendaja Pille Enden &nbsp; Kohtade... Vaata lähemalt: https://www.nomme.ee/eakate-paevakeskused/kalender/kokkame-koos-sopradega-5/
LOCATION:Valdeku 13
CLASS:PUBLIC
STATUS:CONFIRMED
URL:https://www.nomme.ee/eakate-paevakeskused/kalender/kokkame-koos-sopradega-5/
END:VEVENT
END:VCALENDAR