BEGIN:VCALENDAR
VERSION:2.0
PRODID:-//Nõmme Vaba Aja Keskus//Wordpress//EN
METHOD:PUBLISH
CALSCALE:GREGORIAN
BEGIN:VEVENT
TZID:Europe/Tallinn
DTSTART:20221215T190000
DTEND:20221215T200000
TRANSP:TRANSPARENT
SEQUENCE:0
UID:7zkl0x-82cqwfgvyat9n
DTSTAMP:20221129T145140
SUMMARY:NÕMME PÄEVAKESKUSTE JÕULUPIDU
DESCRIPTION:&nbsp; Tallina Võru Seldsi tiätritrupi Tungõl ja lauluansambli Liiso ütine laulu- ja tandsuetendüs KOLM HINNAPAKMIST Kauksi Ülle näidendi „Kolm hinnapakkumist“... Vaata lähemalt: https://www.nomme.ee/eakate-paevakeskused/kalender/tallina-voru-seldsi-tiatritrupi-tungol-ja-lauluansambli-liiso-utine-laulu-ja-tandsuetendus-kolm-hinnapakmist/
LOCATION:Valdeku 13 AULAS
CLASS:PUBLIC
STATUS:CONFIRMED
URL:https://www.nomme.ee/eakate-paevakeskused/kalender/tallina-voru-seldsi-tiatritrupi-tungol-ja-lauluansambli-liiso-utine-laulu-ja-tandsuetendus-kolm-hinnapakmist/
END:VEVENT
END:VCALENDAR