BEGIN:VCALENDAR
VERSION:2.0
PRODID:-//Nõmme Vaba Aja Keskus//Wordpress//EN
METHOD:PUBLISH
CALSCALE:GREGORIAN
BEGIN:VEVENT
TZID:Europe/Tallinn
DTSTART:20230203T140000
DTEND:20230203T160000
TRANSP:TRANSPARENT
SEQUENCE:0
UID:s74j9eml-p3zwahtgvcx
DTSTAMP:20230126T112626
SUMMARY:JAAMALOENG
DESCRIPTION: Vaata lähemalt: https://www.nomme.ee/eakate-paevakeskused/kalender/jaamaloeng/
LOCATION:Pääsküla päevakeskus (endine Pääsküla jaam) Viisi 29
CLASS:PUBLIC
STATUS:CONFIRMED
URL:https://www.nomme.ee/eakate-paevakeskused/kalender/jaamaloeng/
END:VEVENT
END:VCALENDAR