BEGIN:VCALENDAR
VERSION:2.0
PRODID:-//Nõmme Vaba Aja Keskus//Wordpress//EN
METHOD:PUBLISH
CALSCALE:GREGORIAN
BEGIN:VEVENT
TZID:Europe/Tallinn
DTSTART:20230216T130000
DTEND:20230217T170000
TRANSP:TRANSPARENT
SEQUENCE:0
UID:vgxc3p8akieyn6lf07-u
DTSTAMP:20230126T152703
SUMMARY:TARTU EKSKURSIOON
DESCRIPTION:16. veebruar, neljapäev Kell 13.00 väljasõit Valdeku 13 parklast Kell 15.30 hotell Tartu – tubadesse registreerimine (Soola 3) Kell 16.30... Vaata lähemalt: https://www.nomme.ee/eakate-paevakeskused/kalender/tartu-ekskursioon/
LOCATION:Valdeku 13
CLASS:PUBLIC
STATUS:CONFIRMED
URL:https://www.nomme.ee/eakate-paevakeskused/kalender/tartu-ekskursioon/
END:VEVENT
END:VCALENDAR