BEGIN:VCALENDAR
VERSION:2.0
PRODID:-//Nõmme Vaba Aja Keskus//Wordpress//EN
METHOD:PUBLISH
CALSCALE:GREGORIAN
BEGIN:VEVENT
TZID:Europe/Tallinn
DTSTART:20231202T110000
DTEND:20231208T150000
TRANSP:TRANSPARENT
SEQUENCE:0
UID:5ebx483w9n12vlajsdmo
DTSTAMP:20231130T140238
SUMMARY:JÕULULAAT
DESCRIPTION:VAIBAD, KÄSITÖÖ, KERAAMIKA   &nbsp;   &nbsp; Vaata lähemalt: https://www.nomme.ee/eakate-paevakeskused/kalender/joululaat-2/
LOCATION:Valdeku 13 Nõmme Maja 0 korrusel   (sissepääs parkla poolt)
CLASS:PUBLIC
STATUS:CONFIRMED
URL:https://www.nomme.ee/eakate-paevakeskused/kalender/joululaat-2/
END:VEVENT
END:VCALENDAR