BEGIN:VCALENDAR
VERSION:2.0
PRODID:-//Nõmme Vaba Aja Keskus//Wordpress//EN
METHOD:PUBLISH
CALSCALE:GREGORIAN
BEGIN:VEVENT
TZID:Europe/Tallinn
DTSTART:20241203T180000
DTEND:20241203T200000
TRANSP:TRANSPARENT
SEQUENCE:0
UID:equvgnj-m5r28xs7bfwl
DTSTAMP:20241023T061204
SUMMARY:KOKAME KOOS SÕPRADEGA
DESCRIPTION:Menüüs on: Krõbedad halloumi juustu ampsud Soe kõrvitsasalat jõhvikate ja juustuga Hasselbacki kõrvits Lõhe filotainas Kreemine jõhvika-piparkoogimaius &nbsp; Juhendab Kodukirja... Vaata lähemalt: https://www.nomme.ee/eakate-paevakeskused/kalender/kokame-koos-sopradega/
LOCATION:Valdeku 13
CLASS:PUBLIC
STATUS:CONFIRMED
URL:https://www.nomme.ee/eakate-paevakeskused/kalender/kokame-koos-sopradega/
END:VEVENT
END:VCALENDAR