BEGIN:VCALENDAR
VERSION:2.0
PRODID:-//Nõmme Vaba Aja Keskus//Wordpress//EN
METHOD:PUBLISH
CALSCALE:GREGORIAN
BEGIN:VEVENT
TZID:Europe/Tallinn
DTSTART:20250218T113000
DTEND:20250218T153000
TRANSP:TRANSPARENT
SEQUENCE:0
UID:05ea6ixtmjgupcskv93y
DTSTAMP:20250204T080934
SUMMARY:TALVEPÄEV VABAÕHUMUUSEUMIS
DESCRIPTION:Kava 11.30 väljasõit Valdeku 13 parklast 12.00 vastlapäeva lõuna Kolu kõrtsis 13.00 – 15.00 giidiga haridusprogramm „Kuldsed kuuekümnendad ja säravad... Vaata lähemalt: https://www.nomme.ee/eakate-paevakeskused/kalender/talvepaev-vabaohumuuseumis/
LOCATION:Valdeku 13
CLASS:PUBLIC
STATUS:CONFIRMED
URL:https://www.nomme.ee/eakate-paevakeskused/kalender/talvepaev-vabaohumuuseumis/
END:VEVENT
END:VCALENDAR