BEGIN:VCALENDAR
VERSION:2.0
PRODID:-//Nõmme Vaba Aja Keskus//Wordpress//EN
METHOD:PUBLISH
CALSCALE:GREGORIAN
BEGIN:VEVENT
TZID:Europe/Tallinn
DTSTART:20250513T110000
DTEND:20250513T120000
TRANSP:TRANSPARENT
SEQUENCE:0
UID:jqzs-26r40nmk5p8fyuw
DTSTAMP:20250429T095151
SUMMARY:HOOAJA VIIMANE BINGO
DESCRIPTION: Vaata lähemalt: https://www.nomme.ee/eakate-paevakeskused/kalender/bingo-5/
LOCATION:Pääsküla päevakeskus Viisi 29
CLASS:PUBLIC
STATUS:CONFIRMED
URL:https://www.nomme.ee/eakate-paevakeskused/kalender/bingo-5/
END:VEVENT
END:VCALENDAR