BEGIN:VCALENDAR
VERSION:2.0
PRODID:-//Nõmme Vaba Aja Keskus//Wordpress//EN
METHOD:PUBLISH
CALSCALE:GREGORIAN
BEGIN:VEVENT
TZID:Europe/Tallinn
DTSTART:20260324T180000
DTEND:20260324T200000
TRANSP:TRANSPARENT
SEQUENCE:0
UID:thpkq17ubcgy9mw5jfeo
DTSTAMP:20260212T122824
SUMMARY:KOKKAME KOOS SÕPRADEGA
DESCRIPTION:Menüü: Saiast “roosiõied” pasteediga Lõhe crudo  ehk tsitrustega kiirmarineeritud lõhe Värske salat suitsukala ja  munaga Kevadine risoto spargli ja sidruniga... Vaata lähemalt: https://www.nomme.ee/eakate-paevakeskused/kalender/kokkame-koos-sopradega-33/
LOCATION:Valdeku 13 puhkeruumis
CLASS:PUBLIC
STATUS:CONFIRMED
URL:https://www.nomme.ee/eakate-paevakeskused/kalender/kokkame-koos-sopradega-33/
END:VEVENT
END:VCALENDAR