BEGIN:VCALENDAR
VERSION:2.0
PRODID:-//Nõmme Vaba Aja Keskus//Wordpress//EN
METHOD:PUBLISH
CALSCALE:GREGORIAN
BEGIN:VEVENT
TZID:Europe/Tallinn
DTSTART:20260508T070000
DTEND:20260509T210000
TRANSP:TRANSPARENT
SEQUENCE:0
UID:ib-r5ntkj1pcq8ag2e7o
DTSTAMP:20260408T080125
SUMMARY:VEEL ON MÕNED VABAD KOHAD! KEVADINE LÄTI REIS 8. – 9. MAI
DESCRIPTION:Kava 1.päev 8. mai kell 7.00 Väljasõit Valdeku 13 parklast Kohvipaus Iklas Sõidame Bauska lähedal asuvasse Rundale lossi Kell 12.30... Vaata lähemalt: https://www.nomme.ee/eakate-paevakeskused/kalender/kevadine-lati-reis-8-9-mai/
LOCATION:Valdeku 13 parkla
CLASS:PUBLIC
STATUS:CONFIRMED
URL:https://www.nomme.ee/eakate-paevakeskused/kalender/kevadine-lati-reis-8-9-mai/
END:VEVENT
END:VCALENDAR