BEGIN:VCALENDAR
VERSION:2.0
PRODID:-//Nõmme Vaba Aja Keskus//Wordpress//EN
METHOD:PUBLISH
CALSCALE:GREGORIAN
BEGIN:VEVENT
TZID:Europe/Tallinn
DTSTART:20260505T120000
DTEND:20260505T130000
TRANSP:TRANSPARENT
SEQUENCE:0
UID:fbw673ec8j2ynx9d0rui
DTSTAMP:20260423T130420
SUMMARY:ETENDUS "KAPSAPEA"
DESCRIPTION:TULGE VAATAMA! Vaata lähemalt: https://www.nomme.ee/eakate-paevakeskused/kalender/etendus-kapsapea/
LOCATION:VALDEKU 13 PUHKERUUMIS
CLASS:PUBLIC
STATUS:CONFIRMED
URL:https://www.nomme.ee/eakate-paevakeskused/kalender/etendus-kapsapea/
END:VEVENT
END:VCALENDAR