BEGIN:VCALENDAR
VERSION:2.0
PRODID:-//Nõmme Vaba Aja Keskus//Wordpress//EN
METHOD:PUBLISH
CALSCALE:GREGORIAN
BEGIN:VEVENT
TZID:Europe/Tallinn
DTSTART:20220412T180000
DTEND:20220412T200000
TRANSP:TRANSPARENT
SEQUENCE:0
UID:1nompzq3ibcvaxr50l74
DTSTAMP:20220329T152910
SUMMARY:„Kokkame koos sõpradega“
DESCRIPTION:Menüü: Peekonis küpsetatud jalapenod. Juustutäidisega kanakotletid. Portugali kreemipirukas. &nbsp; Juhendab Kodukirja ja Toidutare köögitoimetaja, kokaraamatute autor Pille Enden. &nbsp; Vabanes... Vaata lähemalt: https://www.nomme.ee/eakate-paevakeskused/kalender/kokkame-koos-sopradega-2/
LOCATION:Valdeku 13
CLASS:PUBLIC
STATUS:CONFIRMED
URL:https://www.nomme.ee/eakate-paevakeskused/kalender/kokkame-koos-sopradega-2/
END:VEVENT
END:VCALENDAR