BEGIN:VCALENDAR
VERSION:2.0
PRODID:-//Nõmme Vaba Aja Keskus//Wordpress//EN
METHOD:PUBLISH
CALSCALE:GREGORIAN
BEGIN:VEVENT
TZID:Europe/Tallinn
DTSTART:20260424T160000
DTEND:20260424T170000
TRANSP:TRANSPARENT
SEQUENCE:0
UID:vhqm2rop43jdckgiye75
DTSTAMP:20260413T093338
SUMMARY:Skatepargi Koristuspäev
DESCRIPTION:Hei noored! 24.04 reedel umbes kell 16.00 teeme koos skatepargi koristust. Tahame, et liituksid ja aitaksid meil pargi puhtaks teha,... Vaata lähemalt: https://www.nomme.ee/paaskula-noortekeskus/kalender/skatepargi-koristuspaev-2/
LOCATION:Pääsküla Noortekeskus
CLASS:PUBLIC
STATUS:CONFIRMED
URL:https://www.nomme.ee/paaskula-noortekeskus/kalender/skatepargi-koristuspaev-2/
END:VEVENT
END:VCALENDAR