BEGIN:VCALENDAR
VERSION:2.0
PRODID:-//Nõmme Vaba Aja Keskus//Wordpress//EN
METHOD:PUBLISH
CALSCALE:GREGORIAN
BEGIN:VEVENT
TZID:Europe/Tallinn
DTSTART:20260428T133000
DTEND:20260428T163000
TRANSP:TRANSPARENT
SEQUENCE:0
UID:1n94g6pmuda-wx20hov5
DTSTAMP:20260420T121204
SUMMARY:Tutvu noorsootöötaja Mariaga!
DESCRIPTION:Järgmisel teisipäeval Sinul tekib võimalus tutvuda meie uue noorsootöötaja Maria Luizaga! Plaanitud on loominguline käsitöötegevus, mille käigus saad valmistada endale... Vaata lähemalt: https://www.nomme.ee/paaskula-noortekeskus/kalender/tutvu-noorsootootaja-mariaga/
LOCATION:Pääsküla Noortekeskus
CLASS:PUBLIC
STATUS:CONFIRMED
URL:https://www.nomme.ee/paaskula-noortekeskus/kalender/tutvu-noorsootootaja-mariaga/
END:VEVENT
END:VCALENDAR