BEGIN:VCALENDAR
VERSION:2.0
PRODID:-//Nõmme Vaba Aja Keskus//Wordpress//EN
METHOD:PUBLISH
CALSCALE:GREGORIAN
BEGIN:VEVENT
TZID:Europe/Tallinn
DTSTART:20211220T130000
DTEND:20211222T190000
TRANSP:TRANSPARENT
SEQUENCE:0
UID:20o4vi9d1xbfy8q-hp3r
DTSTAMP:20211216T085846
SUMMARY:Jõulunädal Pääsküla noortekeskuses
DESCRIPTION: Vaata lähemalt: https://www.nomme.ee/paaskula-noortekeskus/kalender/joulunadal-paaskula-noortekeskuses/
LOCATION:
CLASS:PUBLIC
STATUS:CONFIRMED
URL:https://www.nomme.ee/paaskula-noortekeskus/kalender/joulunadal-paaskula-noortekeskuses/
END:VEVENT
END:VCALENDAR