BEGIN:VCALENDAR
VERSION:2.0
PRODID:-//Nõmme Vaba Aja Keskus//Wordpress//EN
METHOD:PUBLISH
CALSCALE:GREGORIAN
BEGIN:VEVENT
TZID:Europe/Tallinn
DTSTART:20230517T130000
DTEND:20230517T180000
TRANSP:TRANSPARENT
SEQUENCE:0
UID:m01jodb9xparf3t-lnse
DTSTAMP:20230510T144417
SUMMARY:Pääsküla noortekeskus 21
DESCRIPTION:Kallid sõbrad, kutsume teid 17. mail oma sünnipäeva meiega koos tähistama. Mängime erinevaid mänge, naudime jäätist ja üllatusi! Uksed avatud... Vaata lähemalt: https://www.nomme.ee/paaskula-noortekeskus/kalender/paaskula-noortekeskus-21/
LOCATION:Pääsküla noortekeskus
CLASS:PUBLIC
STATUS:CONFIRMED
URL:https://www.nomme.ee/paaskula-noortekeskus/kalender/paaskula-noortekeskus-21/
END:VEVENT
END:VCALENDAR