BEGIN:VCALENDAR
VERSION:2.0
PRODID:-//Nõmme Vaba Aja Keskus//Wordpress//EN
METHOD:PUBLISH
CALSCALE:GREGORIAN
BEGIN:VEVENT
TZID:Europe/Tallinn
DTSTART:20241111
DTEND:20241116
TRANSP:TRANSPARENT
SEQUENCE:0
UID:rw60xkhp-18d52tf9s37
DTSTAMP:20241014T103059
SUMMARY:Noorsootöönädal 2024 "Erinevus rikastab"
DESCRIPTION:Noorsootöö nädala fookuses on sel aastal teema, mis puudutab meid kõiki. Maailm on üha enam globaliseeruv ning erinevate kultuuride ja... Vaata lähemalt: https://www.nomme.ee/valdeku-noortekeskus/kalender/noorsootoonadal-2024-erinevus-rikastab/
LOCATION:Valdeku Noortekeskus
CLASS:PUBLIC
STATUS:CONFIRMED
URL:https://www.nomme.ee/valdeku-noortekeskus/kalender/noorsootoonadal-2024-erinevus-rikastab/
END:VEVENT
END:VCALENDAR