BEGIN:VCALENDAR
VERSION:2.0
PRODID:-//Nõmme Vaba Aja Keskus//Wordpress//EN
METHOD:PUBLISH
CALSCALE:GREGORIAN
BEGIN:VEVENT
TZID:Europe/Tallinn
DTSTART:20250214T183000
DTEND:20250214T200000
TRANSP:TRANSPARENT
SEQUENCE:0
UID:0rt7ci9o8usnvewxkhaq
DTSTAMP:20250128T105701
SUMMARY:Vaimse tervise õhtu 14+ noortele
DESCRIPTION:Veebruarist maini toimuvad Valdeku Noortekeskuses kord kuus vaimse tervise õhtud noortele vanuses 14+. Mida koos teeme? 🎨 Loomingulisi tegevusi, mis... Vaata lähemalt: https://www.nomme.ee/valdeku-noortekeskus/kalender/vaimse-tervise-ohtud-noortele/
LOCATION:Valdeku Noortekeskus (Valdeku 13)
CLASS:PUBLIC
STATUS:CONFIRMED
URL:https://www.nomme.ee/valdeku-noortekeskus/kalender/vaimse-tervise-ohtud-noortele/
END:VEVENT
END:VCALENDAR