BEGIN:VCALENDAR
VERSION:2.0
PRODID:-//Nõmme Vaba Aja Keskus//Wordpress//EN
METHOD:PUBLISH
CALSCALE:GREGORIAN
BEGIN:VEVENT
TZID:Europe/Tallinn
DTSTART:20251029T193000
DTEND:20251029T213000
TRANSP:TRANSPARENT
SEQUENCE:0
UID:muj4d0z6ps275f3wclq9
DTSTAMP:20251020T175420
SUMMARY:Kväär Noorteruum
DESCRIPTION:Ootame 15+ vanuses kväärnoori Pääsküla ja Valdeku noortekeskuste kväärnoorteruumidesse, mis toimuvad kaks korda kuus septembrist kuni 2025 aasta lõpuni kell... Vaata lähemalt: https://www.nomme.ee/valdeku-noortekeskus/kalender/kvaar-noorteruum/
LOCATION:Valdeku Noortekeskus
CLASS:PUBLIC
STATUS:CONFIRMED
URL:https://www.nomme.ee/valdeku-noortekeskus/kalender/kvaar-noorteruum/
END:VEVENT
END:VCALENDAR